BEGIN:VCALENDAR
VERSION:2.0
PRODID:-//NADI Felda Jengka 2 - ECPv6.15.13.1//NONSGML v1.0//EN
CALSCALE:GREGORIAN
METHOD:PUBLISH
X-WR-CALNAME:NADI Felda Jengka 2
X-ORIGINAL-URL:https://feldajengka2.nadi.my
X-WR-CALDESC:Events for NADI Felda Jengka 2
REFRESH-INTERVAL;VALUE=DURATION:PT1H
X-Robots-Tag:noindex
X-PUBLISHED-TTL:PT1H
BEGIN:VTIMEZONE
TZID:UTC
BEGIN:STANDARD
TZOFFSETFROM:+0000
TZOFFSETTO:+0000
TZNAME:UTC
DTSTART:20210101T000000
END:STANDARD
END:VTIMEZONE
BEGIN:VEVENT
DTSTART;TZID=UTC:20230518T140000
DTEND;TZID=UTC:20230518T170000
DTSTAMP:20260421T010624
CREATED:20230511T231014Z
LAST-MODIFIED:20230511T231014Z
UID:2853-1684418400-1684429200@feldajengka2.nadi.my
SUMMARY:Klik Dengan Bijak
DESCRIPTION:
URL:https://feldajengka2.nadi.my/event/klik-dengan-bijak-372/
LOCATION:PEDI JENGKA 2\, PEDI JENGKA 2
CATEGORIES:Kelas PEDI
END:VEVENT
BEGIN:VEVENT
DTSTART;TZID=UTC:20230515T080000
DTEND;TZID=UTC:20230515T120000
DTSTAMP:20260421T010624
CREATED:20230511T230750Z
LAST-MODIFIED:20230511T230750Z
UID:2852-1684137600-1684152000@feldajengka2.nadi.my
SUMMARY:Jamuan Raya SKJ2
DESCRIPTION:
URL:https://feldajengka2.nadi.my/event/jamuan-raya-skj2/
LOCATION:SKJ2\, SKJ2
CATEGORIES:Program Bersama
END:VEVENT
BEGIN:VEVENT
DTSTART;TZID=UTC:20230424T090000
DTEND;TZID=UTC:20230424T170000
DTSTAMP:20260421T010624
CREATED:20230404T194020Z
LAST-MODIFIED:20230404T194020Z
UID:2850-1682326800-1682355600@feldajengka2.nadi.my
SUMMARY:Sambutan Hari Raya Aidilfitri
DESCRIPTION:
URL:https://feldajengka2.nadi.my/event/sambutan-hari-raya-aidilfitri/
LOCATION:PEDI FELDA JENGKA 2\, PEDI FELDA JENGKA 2
CATEGORIES:Program Bersama
END:VEVENT
BEGIN:VEVENT
DTSTART;TZID=UTC:20230419T090000
DTEND;TZID=UTC:20230419T120000
DTSTAMP:20260421T010624
CREATED:20230404T193926Z
LAST-MODIFIED:20230404T193926Z
UID:2849-1681894800-1681905600@feldajengka2.nadi.my
SUMMARY:Kelas Usahawan
DESCRIPTION:
URL:https://feldajengka2.nadi.my/event/kelas-usahawan-7/
LOCATION:PEDI FELDA JENGKA 2\, PEDI FELDA JENGKA 2
CATEGORIES:Kelas PEDI
END:VEVENT
BEGIN:VEVENT
DTSTART;TZID=UTC:20230415T140000
DTEND;TZID=UTC:20230415T170000
DTSTAMP:20260421T010624
CREATED:20230404T193826Z
LAST-MODIFIED:20230404T193826Z
UID:2848-1681567200-1681578000@feldajengka2.nadi.my
SUMMARY:Kelas Microsoft dan E-Waste
DESCRIPTION:
URL:https://feldajengka2.nadi.my/event/kelas-microsoft-dan-e-waste/
LOCATION:PEDI FELDA JENGKA 2\, PEDI FELDA JENGKA 2
CATEGORIES:Kelas PEDI
END:VEVENT
BEGIN:VEVENT
DTSTART;TZID=UTC:20230407T090000
DTEND;TZID=UTC:20230407T120000
DTSTAMP:20260421T010624
CREATED:20230404T193716Z
LAST-MODIFIED:20230404T193716Z
UID:2847-1680858000-1680868800@feldajengka2.nadi.my
SUMMARY:Sambutan Nuzul Quran
DESCRIPTION:
URL:https://feldajengka2.nadi.my/event/sambutan-nuzul-quran/
LOCATION:PEDI FELDA JENGKA 2\, PEDI FELDA JENGKA 2
CATEGORIES:Kelas PEDI
END:VEVENT
BEGIN:VEVENT
DTSTART;TZID=UTC:20230316T090000
DTEND;TZID=UTC:20230316T120000
DTSTAMP:20260421T010624
CREATED:20230302T184131Z
LAST-MODIFIED:20230302T184131Z
UID:2846-1678957200-1678968000@feldajengka2.nadi.my
SUMMARY:Taklimat E-Waste
DESCRIPTION:
URL:https://feldajengka2.nadi.my/event/taklimat-e-waste-20/
LOCATION:PEDI FELDA JENGKA 2\, PEDI FELDA JENGKA 2
CATEGORIES:DEFAULT
END:VEVENT
BEGIN:VEVENT
DTSTART;TZID=UTC:20230307T100000
DTEND;TZID=UTC:20230307T235959
DTSTAMP:20260421T010624
CREATED:20230302T184022Z
LAST-MODIFIED:20230302T184022Z
UID:2845-1678183200-1678233599@feldajengka2.nadi.my
SUMMARY:Fun Learning ABCYa
DESCRIPTION:
URL:https://feldajengka2.nadi.my/event/fun-learning-abcya-3/
LOCATION:PEDI FELDA JENGKA 2\, PEDI FELDA JENGKA 2
CATEGORIES:DEFAULT
END:VEVENT
BEGIN:VEVENT
DTSTART;TZID=UTC:20230305T100000
DTEND;TZID=UTC:20230305T130000
DTSTAMP:20260421T010624
CREATED:20230302T183903Z
LAST-MODIFIED:20230302T183903Z
UID:2844-1678010400-1678021200@feldajengka2.nadi.my
SUMMARY:Kelas Usahawan (microsoft)
DESCRIPTION:
URL:https://feldajengka2.nadi.my/event/kelas-usahawan-microsoft/
LOCATION:PEDI FELDA JENGKA 2\, PEDI FELDA JENGKA 2
CATEGORIES:DEFAULT
END:VEVENT
BEGIN:VEVENT
DTSTART;TZID=UTC:20230226T100000
DTEND;TZID=UTC:20230226T130000
DTSTAMP:20260421T010624
CREATED:20230223T205159Z
LAST-MODIFIED:20230223T205159Z
UID:2843-1677405600-1677416400@feldajengka2.nadi.my
SUMMARY:Pertandingan Mewarna (Program cuti sekolah)
DESCRIPTION:
URL:https://feldajengka2.nadi.my/event/pertandingan-mewarna-program-cuti-sekolah/
LOCATION:PEDI JENGKA 2\, PEDI JENGKA 2
CATEGORIES:Kelas PEDI
END:VEVENT
BEGIN:VEVENT
DTSTART;TZID=UTC:20230225T100000
DTEND;TZID=UTC:20230225T235959
DTSTAMP:20260421T010624
CREATED:20230223T204259Z
LAST-MODIFIED:20230223T204259Z
UID:2842-1677319200-1677369599@feldajengka2.nadi.my
SUMMARY:Permainan Tradisi (Program Cuti Sekolah)
DESCRIPTION:
URL:https://feldajengka2.nadi.my/event/permainan-tradisi-program-cuti-sekolah/
LOCATION:PEDI JENGKA 2\, PEDI JENGKA 2
CATEGORIES:Program Bersama
END:VEVENT
BEGIN:VEVENT
DTSTART;TZID=UTC:20230106T100000
DTEND;TZID=UTC:20230106T120000
DTSTAMP:20260421T010624
CREATED:20230103T013214Z
LAST-MODIFIED:20230103T013214Z
UID:2841-1672999200-1673006400@feldajengka2.nadi.my
SUMMARY:Kelas Microsoft (excel)
DESCRIPTION:
URL:https://feldajengka2.nadi.my/event/kelas-microsoft-excel-2/
LOCATION:PEDI FELDA JENGKA 2\, PEDI FELDA JENGKA 2
CATEGORIES:DEFAULT
END:VEVENT
BEGIN:VEVENT
DTSTART;TZID=UTC:20221229T140000
DTEND;TZID=UTC:20221229T170000
DTSTAMP:20260421T010624
CREATED:20221212T002217Z
LAST-MODIFIED:20221212T002217Z
UID:2840-1672322400-1672333200@feldajengka2.nadi.my
SUMMARY:Latihan Usahawan (Shopee)
DESCRIPTION:
URL:https://feldajengka2.nadi.my/event/latihan-usahawan-shopee/
LOCATION:PEDI FELDA JENGKA 2\, PEDI FELDA JENGKA 2
CATEGORIES:DEFAULT
END:VEVENT
BEGIN:VEVENT
DTSTART;TZID=UTC:20221223T100000
DTEND;TZID=UTC:20230105T170000
DTSTAMP:20260421T010624
CREATED:20221212T002057Z
LAST-MODIFIED:20221212T002057Z
UID:2839-1671789600-1672938000@feldajengka2.nadi.my
SUMMARY:Pertandingan Permainan Tradisional
DESCRIPTION:
URL:https://feldajengka2.nadi.my/event/pertandingan-permainan-tradisional-6/
LOCATION:PEDI FELDA JENGKA 2\, PEDI FELDA JENGKA 2
CATEGORIES:DEFAULT
END:VEVENT
BEGIN:VEVENT
DTSTART;TZID=UTC:20221222T100000
DTEND;TZID=UTC:20230104T170000
DTSTAMP:20260421T010624
CREATED:20221212T002057Z
LAST-MODIFIED:20221212T002057Z
UID:2838-1671703200-1672851600@feldajengka2.nadi.my
SUMMARY:Pertandingan Permainan Tradisional
DESCRIPTION:
URL:https://feldajengka2.nadi.my/event/pertandingan-permainan-tradisional-5/
LOCATION:PEDI FELDA JENGKA 2\, PEDI FELDA JENGKA 2
CATEGORIES:DEFAULT
END:VEVENT
BEGIN:VEVENT
DTSTART;TZID=UTC:20221221T100000
DTEND;TZID=UTC:20230103T170000
DTSTAMP:20260421T010624
CREATED:20221212T002057Z
LAST-MODIFIED:20221212T002057Z
UID:2837-1671616800-1672765200@feldajengka2.nadi.my
SUMMARY:Pertandingan Permainan Tradisional
DESCRIPTION:
URL:https://feldajengka2.nadi.my/event/pertandingan-permainan-tradisional-4/
LOCATION:PEDI FELDA JENGKA 2\, PEDI FELDA JENGKA 2
CATEGORIES:DEFAULT
END:VEVENT
BEGIN:VEVENT
DTSTART;TZID=UTC:20221221T090000
DTEND;TZID=UTC:20221221T170000
DTSTAMP:20260421T010624
CREATED:20221212T001932Z
LAST-MODIFIED:20221212T001932Z
UID:2833-1671613200-1671642000@feldajengka2.nadi.my
SUMMARY:Fun Learning ABCYa
DESCRIPTION:
URL:https://feldajengka2.nadi.my/event/fun-learning-abcya-2/
LOCATION:PEDI FELDA JENGKA 2\, PEDI FELDA JENGKA 2
CATEGORIES:DEFAULT
END:VEVENT
BEGIN:VEVENT
DTSTART;TZID=UTC:20221220T100000
DTEND;TZID=UTC:20230102T170000
DTSTAMP:20260421T010624
CREATED:20221212T002057Z
LAST-MODIFIED:20221212T002057Z
UID:2836-1671530400-1672678800@feldajengka2.nadi.my
SUMMARY:Pertandingan Permainan Tradisional
DESCRIPTION:
URL:https://feldajengka2.nadi.my/event/pertandingan-permainan-tradisional-3/
LOCATION:PEDI FELDA JENGKA 2\, PEDI FELDA JENGKA 2
CATEGORIES:DEFAULT
END:VEVENT
BEGIN:VEVENT
DTSTART;TZID=UTC:20221219T140000
DTEND;TZID=UTC:20221219T170000
DTSTAMP:20260421T010624
CREATED:20221212T001817Z
LAST-MODIFIED:20221212T001817Z
UID:2832-1671458400-1671469200@feldajengka2.nadi.my
SUMMARY:Kelas Microsoft Word
DESCRIPTION:
URL:https://feldajengka2.nadi.my/event/kelas-microsoft-word-2/
LOCATION:PEDI FELDA JENGKA 2\, PEDI FELDA JENGKA 2
CATEGORIES:DEFAULT
END:VEVENT
BEGIN:VEVENT
DTSTART;TZID=UTC:20221219T100000
DTEND;TZID=UTC:20230101T170000
DTSTAMP:20260421T010624
CREATED:20221212T002057Z
LAST-MODIFIED:20221212T002057Z
UID:2835-1671444000-1672592400@feldajengka2.nadi.my
SUMMARY:Pertandingan Permainan Tradisional
DESCRIPTION:
URL:https://feldajengka2.nadi.my/event/pertandingan-permainan-tradisional-2/
LOCATION:PEDI FELDA JENGKA 2\, PEDI FELDA JENGKA 2
CATEGORIES:DEFAULT
END:VEVENT
BEGIN:VEVENT
DTSTART;TZID=UTC:20221218T100000
DTEND;TZID=UTC:20221231T170000
DTSTAMP:20260421T010624
CREATED:20221212T002057Z
LAST-MODIFIED:20221212T002057Z
UID:2834-1671357600-1672506000@feldajengka2.nadi.my
SUMMARY:Pertandingan Permainan Tradisional
DESCRIPTION:
URL:https://feldajengka2.nadi.my/event/pertandingan-permainan-tradisional/
LOCATION:PEDI FELDA JENGKA 2\, PEDI FELDA JENGKA 2
CATEGORIES:DEFAULT
END:VEVENT
BEGIN:VEVENT
DTSTART;TZID=UTC:20221215T100000
DTEND;TZID=UTC:20221215T235959
DTSTAMP:20260421T010624
CREATED:20221212T001707Z
LAST-MODIFIED:20221212T001707Z
UID:2831-1671098400-1671148799@feldajengka2.nadi.my
SUMMARY:Taklimat E-Waste dan Kuiz
DESCRIPTION:
URL:https://feldajengka2.nadi.my/event/taklimat-e-waste-dan-kuiz-6/
LOCATION:PEDI FELDA JENGKA 2\, PEDI FELDA JENGKA 2
CATEGORIES:DEFAULT
END:VEVENT
BEGIN:VEVENT
DTSTART;TZID=UTC:20221130T140000
DTEND;TZID=UTC:20221130T170000
DTSTAMP:20260421T010624
CREATED:20221101T005856Z
LAST-MODIFIED:20221101T005856Z
UID:2830-1669816800-1669827600@feldajengka2.nadi.my
SUMMARY:Kelas Usahawan
DESCRIPTION:
URL:https://feldajengka2.nadi.my/event/kelas-usahawan-6/
LOCATION:PEDI FELDA JENGKA 2\, PEDI FELDA JENGKA 2
CATEGORIES:DEFAULT
END:VEVENT
BEGIN:VEVENT
DTSTART;TZID=UTC:20221125T090000
DTEND;TZID=UTC:20221125T120000
DTSTAMP:20260421T010624
CREATED:20221101T005747Z
LAST-MODIFIED:20221101T005747Z
UID:2829-1669366800-1669377600@feldajengka2.nadi.my
SUMMARY:Fun Learning Puzzle
DESCRIPTION:
URL:https://feldajengka2.nadi.my/event/fun-learning-puzzle/
LOCATION:PEDI FELDA JENGKA 2\, PEDI FELDA JENGKA 2
CATEGORIES:DEFAULT
END:VEVENT
BEGIN:VEVENT
DTSTART;TZID=UTC:20221119T100000
DTEND;TZID=UTC:20221119T235959
DTSTAMP:20260421T010624
CREATED:20221101T005704Z
LAST-MODIFIED:20221101T005704Z
UID:2828-1668852000-1668902399@feldajengka2.nadi.my
SUMMARY:Dashboard MY Place
DESCRIPTION:
URL:https://feldajengka2.nadi.my/event/dashboard-my-place/
LOCATION:PEDI FELDA JENGKA 2\, PEDI FELDA JENGKA 2
CATEGORIES:DEFAULT
END:VEVENT
BEGIN:VEVENT
DTSTART;TZID=UTC:20221116T090000
DTEND;TZID=UTC:20221116T130000
DTSTAMP:20260421T010624
CREATED:20221101T005554Z
LAST-MODIFIED:20221101T005554Z
UID:2827-1668589200-1668603600@feldajengka2.nadi.my
SUMMARY:Kelas Asas Android
DESCRIPTION:
URL:https://feldajengka2.nadi.my/event/kelas-asas-android-2/
LOCATION:PEDI FELDA JENGKA 2\, PEDI FELDA JENGKA 2
CATEGORIES:DEFAULT
END:VEVENT
BEGIN:VEVENT
DTSTART;TZID=UTC:20221111T080000
DTEND;TZID=UTC:20221111T235959
DTSTAMP:20260421T010624
CREATED:20221101T005508Z
LAST-MODIFIED:20221101T005508Z
UID:2826-1668153600-1668211199@feldajengka2.nadi.my
SUMMARY:Klik Dengan Bijak
DESCRIPTION:
URL:https://feldajengka2.nadi.my/event/klik-dengan-bijak-371/
LOCATION:PEDI FELDA JENGKA 2\, PEDI FELDA JENGKA 2
CATEGORIES:DEFAULT
END:VEVENT
BEGIN:VEVENT
DTSTART;TZID=UTC:20221106T140000
DTEND;TZID=UTC:20221106T170000
DTSTAMP:20260421T010624
CREATED:20221101T005424Z
LAST-MODIFIED:20221101T005424Z
UID:2825-1667743200-1667754000@feldajengka2.nadi.my
SUMMARY:Taklimat dan kuiz E-Waste
DESCRIPTION:
URL:https://feldajengka2.nadi.my/event/taklimat-dan-kuiz-e-waste/
LOCATION:PEDI FELDA JENGKA 2\, PEDI FELDA JENGKA 2
CATEGORIES:DEFAULT
END:VEVENT
BEGIN:VEVENT
DTSTART;TZID=UTC:20221104T090000
DTEND;TZID=UTC:20221104T120000
DTSTAMP:20260421T010624
CREATED:20221101T005235Z
LAST-MODIFIED:20221101T005235Z
UID:2824-1667552400-1667563200@feldajengka2.nadi.my
SUMMARY:Kelas Skrip ke Skrin
DESCRIPTION:
URL:https://feldajengka2.nadi.my/event/kelas-skrip-ke-skrin/
LOCATION:PEDI FELDA JENGKA 2\, PEDI FELDA JENGKA 2
CATEGORIES:DEFAULT
END:VEVENT
BEGIN:VEVENT
DTSTART;TZID=UTC:20221028T140000
DTEND;TZID=UTC:20221028T170000
DTSTAMP:20260421T010624
CREATED:20221004T195823Z
LAST-MODIFIED:20221004T195823Z
UID:2823-1666965600-1666976400@feldajengka2.nadi.my
SUMMARY:Kelas Usahawan (Membuat Profil Syarikat)
DESCRIPTION:
URL:https://feldajengka2.nadi.my/event/kelas-usahawan-membuat-profil-syarikat/
LOCATION:PEDI FELDA JENGKA 2\, PEDI FELDA JENGKA 2
CATEGORIES:DEFAULT
END:VEVENT
END:VCALENDAR