BEGIN:VCALENDAR
VERSION:2.0
PRODID:-//NADI Felda Jengka 2 - ECPv6.15.13.1//NONSGML v1.0//EN
CALSCALE:GREGORIAN
METHOD:PUBLISH
X-WR-CALNAME:NADI Felda Jengka 2
X-ORIGINAL-URL:https://feldajengka2.nadi.my
X-WR-CALDESC:Events for NADI Felda Jengka 2
REFRESH-INTERVAL;VALUE=DURATION:PT1H
X-Robots-Tag:noindex
X-PUBLISHED-TTL:PT1H
BEGIN:VTIMEZONE
TZID:UTC
BEGIN:STANDARD
TZOFFSETFROM:+0000
TZOFFSETTO:+0000
TZNAME:UTC
DTSTART:20200101T000000
END:STANDARD
END:VTIMEZONE
BEGIN:VEVENT
DTSTART;TZID=UTC:20210808T100000
DTEND;TZID=UTC:20210808T130000
DTSTAMP:20260425T105822
CREATED:20210801T185040Z
LAST-MODIFIED:20210801T185040Z
UID:2747-1628416800-1628427600@feldajengka2.nadi.my
SUMMARY:Kuiz Online(Awal Muharam)
DESCRIPTION:
URL:https://feldajengka2.nadi.my/event/kuiz-onlineawal-muharam/
LOCATION:PI Felda Jengka 2\, PI Felda Jengka 2
CATEGORIES:DEFAULT
END:VEVENT
BEGIN:VEVENT
DTSTART;TZID=UTC:20210804T100000
DTEND;TZID=UTC:20210804T235959
DTSTAMP:20260425T105822
CREATED:20210801T184733Z
LAST-MODIFIED:20210801T184733Z
UID:2746-1628071200-1628121599@feldajengka2.nadi.my
SUMMARY:Asas Komputer(Microsoft)
DESCRIPTION:
URL:https://feldajengka2.nadi.my/event/asas-komputermicrosoft-3/
LOCATION:PI Felda Jengka 2\, PI Felda Jengka 2
CATEGORIES:DEFAULT
END:VEVENT
BEGIN:VEVENT
DTSTART;TZID=UTC:20210726T100000
DTEND;TZID=UTC:20210726T235959
DTSTAMP:20260425T105822
CREATED:20210705T231506Z
LAST-MODIFIED:20210705T231506Z
UID:2745-1627293600-1627343999@feldajengka2.nadi.my
SUMMARY:Kelas Online E-kerajaan
DESCRIPTION:
URL:https://feldajengka2.nadi.my/event/kelas-online-e-kerajaan-3/
LOCATION:PI Felda Jengka 2\, PI Felda Jengka 2
CATEGORIES:DEFAULT
END:VEVENT
BEGIN:VEVENT
DTSTART;TZID=UTC:20210724T100000
DTEND;TZID=UTC:20210724T235959
DTSTAMP:20260425T105822
CREATED:20210705T231357Z
LAST-MODIFIED:20210705T231357Z
UID:2744-1627120800-1627171199@feldajengka2.nadi.my
SUMMARY:Kelas Online Banking
DESCRIPTION:
URL:https://feldajengka2.nadi.my/event/kelas-online-banking/
LOCATION:PI Felda Jengka 2\, PI Felda Jengka 2
CATEGORIES:DEFAULT
END:VEVENT
BEGIN:VEVENT
DTSTART;TZID=UTC:20210720T100000
DTEND;TZID=UTC:20210720T235959
DTSTAMP:20260425T105822
CREATED:20210705T231254Z
LAST-MODIFIED:20210705T231254Z
UID:2743-1626775200-1626825599@feldajengka2.nadi.my
SUMMARY:Kelas Online Bill
DESCRIPTION:
URL:https://feldajengka2.nadi.my/event/kelas-online-bill/
LOCATION:PI Felda Jengka 2\, PI Felda Jengka 2
CATEGORIES:DEFAULT
END:VEVENT
BEGIN:VEVENT
DTSTART;TZID=UTC:20210715T090000
DTEND;TZID=UTC:20210715T120000
DTSTAMP:20260425T105822
CREATED:20210705T230948Z
LAST-MODIFIED:20210705T230948Z
UID:2742-1626339600-1626350400@feldajengka2.nadi.my
SUMMARY:Kelas Online I-Citra
DESCRIPTION:
URL:https://feldajengka2.nadi.my/event/kelas-online-i-citra/
LOCATION:PI Felda Jengka 2\, PI Felda Jengka 2
CATEGORIES:DEFAULT
END:VEVENT
BEGIN:VEVENT
DTSTART;TZID=UTC:20210713T080000
DTEND;TZID=UTC:20210713T235959
DTSTAMP:20260425T105822
CREATED:20210705T230844Z
LAST-MODIFIED:20210705T230844Z
UID:2741-1626163200-1626220799@feldajengka2.nadi.my
SUMMARY:Hebahan MY Komuniti
DESCRIPTION:
URL:https://feldajengka2.nadi.my/event/hebahan-my-komuniti/
LOCATION:PI Felda Jengka 2\, PI Felda Jengka 2
CATEGORIES:DEFAULT
END:VEVENT
BEGIN:VEVENT
DTSTART;TZID=UTC:20210623T140000
DTEND;TZID=UTC:20210623T170000
DTSTAMP:20260425T105822
CREATED:20210622T063337Z
LAST-MODIFIED:20210622T063337Z
UID:2740-1624456800-1624467600@feldajengka2.nadi.my
SUMMARY:Kelas Online E-kerajaan
DESCRIPTION:
URL:https://feldajengka2.nadi.my/event/kelas-online-e-kerajaan-2/
LOCATION:PI Felda Jengka 2\, PI Felda Jengka 2
CATEGORIES:DEFAULT
END:VEVENT
BEGIN:VEVENT
DTSTART;TZID=UTC:20210410T090000
DTEND;TZID=UTC:20210410T235959
DTSTAMP:20260425T105822
CREATED:20210403T020216Z
LAST-MODIFIED:20210403T020216Z
UID:2739-1618045200-1618099199@feldajengka2.nadi.my
SUMMARY:My Health(Saringan)
DESCRIPTION:
URL:https://feldajengka2.nadi.my/event/my-healthsaringan-4/
LOCATION:PI Felda Jengka 2\, PI Felda Jengka 2
CATEGORIES:DEFAULT
END:VEVENT
BEGIN:VEVENT
DTSTART;TZID=UTC:20210408T110000
DTEND;TZID=UTC:20210408T130000
DTSTAMP:20260425T105822
CREATED:20210403T020140Z
LAST-MODIFIED:20210403T020140Z
UID:2738-1617879600-1617886800@feldajengka2.nadi.my
SUMMARY:Taklimat Mobile E-Waste
DESCRIPTION:
URL:https://feldajengka2.nadi.my/event/taklimat-mobile-e-waste-4/
LOCATION:PI Felda Jengka 2\, PI Felda Jengka 2
CATEGORIES:DEFAULT
END:VEVENT
BEGIN:VEVENT
DTSTART;TZID=UTC:20210404T100000
DTEND;TZID=UTC:20210404T130000
DTSTAMP:20260425T105822
CREATED:20210403T020102Z
LAST-MODIFIED:20210403T020102Z
UID:2737-1617530400-1617541200@feldajengka2.nadi.my
SUMMARY:Kelas Microsoft
DESCRIPTION:
URL:https://feldajengka2.nadi.my/event/kelas-microsoft-6/
LOCATION:PI Felda Jengka 2\, PI Felda Jengka 2
CATEGORIES:DEFAULT
END:VEVENT
BEGIN:VEVENT
DTSTART;TZID=UTC:20210331T140000
DTEND;TZID=UTC:20210331T170000
DTSTAMP:20260425T105822
CREATED:20210308T185821Z
LAST-MODIFIED:20210308T185821Z
UID:2736-1617199200-1617210000@feldajengka2.nadi.my
SUMMARY:KDB (Treasure Hunt)
DESCRIPTION:
URL:https://feldajengka2.nadi.my/event/kdb-treasure-hunt/
LOCATION:PI Felda Jengka 2\, PI Felda Jengka 2
CATEGORIES:DEFAULT
END:VEVENT
BEGIN:VEVENT
DTSTART;TZID=UTC:20210329T100000
DTEND;TZID=UTC:20210329T130000
DTSTAMP:20260425T105822
CREATED:20210308T185630Z
LAST-MODIFIED:20210308T185630Z
UID:2735-1617012000-1617022800@feldajengka2.nadi.my
SUMMARY:Fun Learning ABCYA
DESCRIPTION:
URL:https://feldajengka2.nadi.my/event/fun-learning-abcya/
LOCATION:PI Felda Jengka 2\, PI Felda Jengka 2
CATEGORIES:DEFAULT
END:VEVENT
BEGIN:VEVENT
DTSTART;TZID=UTC:20210326T140000
DTEND;TZID=UTC:20210326T170000
DTSTAMP:20260425T105822
CREATED:20210308T185448Z
LAST-MODIFIED:20210308T185448Z
UID:2734-1616767200-1616778000@feldajengka2.nadi.my
SUMMARY:Kelas Keusahawanan
DESCRIPTION:
URL:https://feldajengka2.nadi.my/event/kelas-keusahawanan-6/
LOCATION:PI Felda Jengka 2\, PI Felda Jengka 2
CATEGORIES:DEFAULT
END:VEVENT
BEGIN:VEVENT
DTSTART;TZID=UTC:20210323T100000
DTEND;TZID=UTC:20210323T130000
DTSTAMP:20260425T105822
CREATED:20210308T185322Z
LAST-MODIFIED:20210308T185322Z
UID:2733-1616493600-1616504400@feldajengka2.nadi.my
SUMMARY:Taklimat Mobile E-Waste
DESCRIPTION:
URL:https://feldajengka2.nadi.my/event/taklimat-mobile-e-waste-3/
LOCATION:PI Felda Jengka 2\, PI Felda Jengka 2
CATEGORIES:DEFAULT
END:VEVENT
BEGIN:VEVENT
DTSTART;TZID=UTC:20210320T090000
DTEND;TZID=UTC:20210320T235959
DTSTAMP:20260425T105822
CREATED:20210308T185228Z
LAST-MODIFIED:20210308T185228Z
UID:2732-1616230800-1616284799@feldajengka2.nadi.my
SUMMARY:My Health(Saringan)
DESCRIPTION:
URL:https://feldajengka2.nadi.my/event/my-healthsaringan-3/
LOCATION:PI Felda Jengka 2\, PI Felda Jengka 2
CATEGORIES:DEFAULT
END:VEVENT
BEGIN:VEVENT
DTSTART;TZID=UTC:20210314T140000
DTEND;TZID=UTC:20210314T170000
DTSTAMP:20260425T105822
CREATED:20210308T185109Z
LAST-MODIFIED:20210308T185109Z
UID:2731-1615730400-1615741200@feldajengka2.nadi.my
SUMMARY:Kelas Web Online
DESCRIPTION:
URL:https://feldajengka2.nadi.my/event/kelas-web-online/
LOCATION:PI Felda Jengka 2\, PI Felda Jengka 2
CATEGORIES:DEFAULT
END:VEVENT
BEGIN:VEVENT
DTSTART;TZID=UTC:20210313T100000
DTEND;TZID=UTC:20210313T130000
DTSTAMP:20260425T105822
CREATED:20210308T185005Z
LAST-MODIFIED:20210308T185005Z
UID:2730-1615629600-1615640400@feldajengka2.nadi.my
SUMMARY:Kelas Microsoft
DESCRIPTION:
URL:https://feldajengka2.nadi.my/event/kelas-microsoft-5/
LOCATION:PI Felda Jengka 2\, PI Felda Jengka 2
CATEGORIES:DEFAULT
END:VEVENT
BEGIN:VEVENT
DTSTART;TZID=UTC:20210228T140000
DTEND;TZID=UTC:20210228T170000
DTSTAMP:20260425T105822
CREATED:20210216T003036Z
LAST-MODIFIED:20210216T003036Z
UID:2729-1614520800-1614531600@feldajengka2.nadi.my
SUMMARY:Pengenalan Gmail
DESCRIPTION:
URL:https://feldajengka2.nadi.my/event/pengenalan-gmail/
LOCATION:PI Felda Jengka 2\, PI Felda Jengka 2
CATEGORIES:DEFAULT
END:VEVENT
BEGIN:VEVENT
DTSTART;TZID=UTC:20210220T090000
DTEND;TZID=UTC:20210220T120000
DTSTAMP:20260425T105822
CREATED:20210216T002718Z
LAST-MODIFIED:20210216T002718Z
UID:2372-1613811600-1613822400@feldajengka2.nadi.my
SUMMARY:Kelas Microsoft
DESCRIPTION:
URL:https://feldajengka2.nadi.my/event/kelas-microsoft-4/
LOCATION:PI Felda Jengka 2\, PI Felda Jengka 2
CATEGORIES:DEFAULT
END:VEVENT
BEGIN:VEVENT
DTSTART;TZID=UTC:20210216T090000
DTEND;TZID=UTC:20210216T130000
DTSTAMP:20260425T105822
CREATED:20210216T002924Z
LAST-MODIFIED:20210216T002924Z
UID:2728-1613466000-1613480400@feldajengka2.nadi.my
SUMMARY:Klik Dengan Bijak
DESCRIPTION:
URL:https://feldajengka2.nadi.my/event/klik-dengan-bijak-365/
LOCATION:PI Felda Jengka 2\, PI Felda Jengka 2
CATEGORIES:DEFAULT
END:VEVENT
BEGIN:VEVENT
DTSTART;TZID=UTC:20210215T090000
DTEND;TZID=UTC:20210215T130000
DTSTAMP:20260425T105822
CREATED:20210216T002924Z
LAST-MODIFIED:20210216T002924Z
UID:2727-1613379600-1613394000@feldajengka2.nadi.my
SUMMARY:Klik Dengan Bijak
DESCRIPTION:
URL:https://feldajengka2.nadi.my/event/klik-dengan-bijak-364/
LOCATION:PI Felda Jengka 2\, PI Felda Jengka 2
CATEGORIES:DEFAULT
END:VEVENT
BEGIN:VEVENT
DTSTART;TZID=UTC:20210214T090000
DTEND;TZID=UTC:20210214T130000
DTSTAMP:20260425T105822
CREATED:20210216T002924Z
LAST-MODIFIED:20210216T002924Z
UID:2726-1613293200-1613307600@feldajengka2.nadi.my
SUMMARY:Klik Dengan Bijak
DESCRIPTION:
URL:https://feldajengka2.nadi.my/event/klik-dengan-bijak-363/
LOCATION:PI Felda Jengka 2\, PI Felda Jengka 2
CATEGORIES:DEFAULT
END:VEVENT
BEGIN:VEVENT
DTSTART;TZID=UTC:20210213T090000
DTEND;TZID=UTC:20210213T130000
DTSTAMP:20260425T105822
CREATED:20210216T002924Z
LAST-MODIFIED:20210216T002924Z
UID:2725-1613206800-1613221200@feldajengka2.nadi.my
SUMMARY:Klik Dengan Bijak
DESCRIPTION:
URL:https://feldajengka2.nadi.my/event/klik-dengan-bijak-362/
LOCATION:PI Felda Jengka 2\, PI Felda Jengka 2
CATEGORIES:DEFAULT
END:VEVENT
BEGIN:VEVENT
DTSTART;TZID=UTC:20210212T090000
DTEND;TZID=UTC:20210212T130000
DTSTAMP:20260425T105822
CREATED:20210216T002924Z
LAST-MODIFIED:20210216T002924Z
UID:2724-1613120400-1613134800@feldajengka2.nadi.my
SUMMARY:Klik Dengan Bijak
DESCRIPTION:
URL:https://feldajengka2.nadi.my/event/klik-dengan-bijak-361/
LOCATION:PI Felda Jengka 2\, PI Felda Jengka 2
CATEGORIES:DEFAULT
END:VEVENT
BEGIN:VEVENT
DTSTART;TZID=UTC:20210211T090000
DTEND;TZID=UTC:20210211T130000
DTSTAMP:20260425T105822
CREATED:20210216T002924Z
LAST-MODIFIED:20210216T002924Z
UID:2723-1613034000-1613048400@feldajengka2.nadi.my
SUMMARY:Klik Dengan Bijak
DESCRIPTION:
URL:https://feldajengka2.nadi.my/event/klik-dengan-bijak-360/
LOCATION:PI Felda Jengka 2\, PI Felda Jengka 2
CATEGORIES:DEFAULT
END:VEVENT
BEGIN:VEVENT
DTSTART;TZID=UTC:20210210T090000
DTEND;TZID=UTC:20210210T130000
DTSTAMP:20260425T105822
CREATED:20210216T002924Z
LAST-MODIFIED:20210216T002924Z
UID:2722-1612947600-1612962000@feldajengka2.nadi.my
SUMMARY:Klik Dengan Bijak
DESCRIPTION:
URL:https://feldajengka2.nadi.my/event/klik-dengan-bijak-359/
LOCATION:PI Felda Jengka 2\, PI Felda Jengka 2
CATEGORIES:DEFAULT
END:VEVENT
BEGIN:VEVENT
DTSTART;TZID=UTC:20210209T090000
DTEND;TZID=UTC:20210209T130000
DTSTAMP:20260425T105822
CREATED:20210216T002924Z
LAST-MODIFIED:20210216T002924Z
UID:2721-1612861200-1612875600@feldajengka2.nadi.my
SUMMARY:Klik Dengan Bijak
DESCRIPTION:
URL:https://feldajengka2.nadi.my/event/klik-dengan-bijak-358/
LOCATION:PI Felda Jengka 2\, PI Felda Jengka 2
CATEGORIES:DEFAULT
END:VEVENT
BEGIN:VEVENT
DTSTART;TZID=UTC:20210208T090000
DTEND;TZID=UTC:20210208T130000
DTSTAMP:20260425T105822
CREATED:20210216T002924Z
LAST-MODIFIED:20210216T002924Z
UID:2720-1612774800-1612789200@feldajengka2.nadi.my
SUMMARY:Klik Dengan Bijak
DESCRIPTION:
URL:https://feldajengka2.nadi.my/event/klik-dengan-bijak-357/
LOCATION:PI Felda Jengka 2\, PI Felda Jengka 2
CATEGORIES:DEFAULT
END:VEVENT
BEGIN:VEVENT
DTSTART;TZID=UTC:20210207T090000
DTEND;TZID=UTC:20210207T130000
DTSTAMP:20260425T105822
CREATED:20210216T002924Z
LAST-MODIFIED:20210216T002924Z
UID:2719-1612688400-1612702800@feldajengka2.nadi.my
SUMMARY:Klik Dengan Bijak
DESCRIPTION:
URL:https://feldajengka2.nadi.my/event/klik-dengan-bijak-356/
LOCATION:PI Felda Jengka 2\, PI Felda Jengka 2
CATEGORIES:DEFAULT
END:VEVENT
END:VCALENDAR