BEGIN:VCALENDAR
VERSION:2.0
PRODID:-//NADI Felda Jengka 2 - ECPv6.15.13.1//NONSGML v1.0//EN
CALSCALE:GREGORIAN
METHOD:PUBLISH
X-WR-CALNAME:NADI Felda Jengka 2
X-ORIGINAL-URL:https://feldajengka2.nadi.my
X-WR-CALDESC:Events for NADI Felda Jengka 2
REFRESH-INTERVAL;VALUE=DURATION:PT1H
X-Robots-Tag:noindex
X-PUBLISHED-TTL:PT1H
BEGIN:VTIMEZONE
TZID:UTC
BEGIN:STANDARD
TZOFFSETFROM:+0000
TZOFFSETTO:+0000
TZNAME:UTC
DTSTART:20200101T000000
END:STANDARD
END:VTIMEZONE
BEGIN:VEVENT
DTSTART;TZID=UTC:20220323T080000
DTEND;TZID=UTC:20220323T235959
DTSTAMP:20260423T161518
CREATED:20220308T181803Z
LAST-MODIFIED:20220308T181803Z
UID:2789-1648022400-1648079999@feldajengka2.nadi.my
SUMMARY:Taklimat E-Waste
DESCRIPTION:
URL:https://feldajengka2.nadi.my/event/taklimat-e-waste-17/
LOCATION:PEDI FELDA JENGKA 2\, PEDI FELDA JENGKA 2
CATEGORIES:DEFAULT
END:VEVENT
BEGIN:VEVENT
DTSTART;TZID=UTC:20220319T020000
DTEND;TZID=UTC:20220319T170000
DTSTAMP:20260423T161518
CREATED:20220308T181725Z
LAST-MODIFIED:20220308T181725Z
UID:2788-1647655200-1647709200@feldajengka2.nadi.my
SUMMARY:Kelas Parenting Tools (awasi anak online)
DESCRIPTION:
URL:https://feldajengka2.nadi.my/event/kelas-parenting-tools-awasi-anak-online/
LOCATION:PEDI FELDA JENGKA 2\, PEDI FELDA JENGKA 2
CATEGORIES:DEFAULT
END:VEVENT
BEGIN:VEVENT
DTSTART;TZID=UTC:20220315T090000
DTEND;TZID=UTC:20220315T120000
DTSTAMP:20260423T161518
CREATED:20220308T181633Z
LAST-MODIFIED:20220308T181633Z
UID:2787-1647334800-1647345600@feldajengka2.nadi.my
SUMMARY:Kelas E-Learning ABCYA
DESCRIPTION:
URL:https://feldajengka2.nadi.my/event/kelas-e-learning-abcya/
LOCATION:PEDI FELDA JENGKA 2\, PEDI FELDA JENGKA 2
CATEGORIES:DEFAULT
END:VEVENT
BEGIN:VEVENT
DTSTART;TZID=UTC:20220310T080000
DTEND;TZID=UTC:20220310T235959
DTSTAMP:20260423T161518
CREATED:20220308T181547Z
LAST-MODIFIED:20220308T181547Z
UID:2786-1646899200-1646956799@feldajengka2.nadi.my
SUMMARY:Kelas Online PRA/Darjah 1
DESCRIPTION:
URL:https://feldajengka2.nadi.my/event/kelas-online-pra-darjah-1/
LOCATION:PEDI FELDA JENGKA 2\, PEDI FELDA JENGKA 2
CATEGORIES:DEFAULT
END:VEVENT
BEGIN:VEVENT
DTSTART;TZID=UTC:20220222T090000
DTEND;TZID=UTC:20220222T120000
DTSTAMP:20260423T161518
CREATED:20220206T191233Z
LAST-MODIFIED:20220206T191233Z
UID:2785-1645520400-1645531200@feldajengka2.nadi.my
SUMMARY:Taklimat E-Waste
DESCRIPTION:
URL:https://feldajengka2.nadi.my/event/taklimat-e-waste-16/
LOCATION:PEDI JENGKA 2\, PEDI JENGKA 2
CATEGORIES:DEFAULT
END:VEVENT
BEGIN:VEVENT
DTSTART;TZID=UTC:20220220T090000
DTEND;TZID=UTC:20220220T120000
DTSTAMP:20260423T161518
CREATED:20220206T191149Z
LAST-MODIFIED:20220206T191149Z
UID:2784-1645347600-1645358400@feldajengka2.nadi.my
SUMMARY:Kelas Dashboard Komuniti
DESCRIPTION:
URL:https://feldajengka2.nadi.my/event/kelas-dashboard-komuniti/
LOCATION:PEDI JENGKA 2\, PEDI JENGKA 2
CATEGORIES:DEFAULT
END:VEVENT
BEGIN:VEVENT
DTSTART;TZID=UTC:20220217T140000
DTEND;TZID=UTC:20220217T170000
DTSTAMP:20260423T161518
CREATED:20220206T191036Z
LAST-MODIFIED:20220206T191036Z
UID:2783-1645106400-1645117200@feldajengka2.nadi.my
SUMMARY:Kelas Usahawan(Youtube)
DESCRIPTION:
URL:https://feldajengka2.nadi.my/event/kelas-usahawanyoutube/
LOCATION:PEDI JENGKA 2\, PEDI JENGKA 2
CATEGORIES:DEFAULT
END:VEVENT
BEGIN:VEVENT
DTSTART;TZID=UTC:20220216T090000
DTEND;TZID=UTC:20220216T235959
DTSTAMP:20260423T161518
CREATED:20220206T190926Z
LAST-MODIFIED:20220206T190926Z
UID:2782-1645002000-1645055999@feldajengka2.nadi.my
SUMMARY:Taklimat &Kuiz sebenarnya.my dan KDB
DESCRIPTION:
URL:https://feldajengka2.nadi.my/event/taklimat-kuiz-sebenarnya-my-dan-kdb/
LOCATION:PEDI JENGKA 2\, PEDI JENGKA 2
CATEGORIES:DEFAULT
END:VEVENT
BEGIN:VEVENT
DTSTART;TZID=UTC:20220212T100000
DTEND;TZID=UTC:20220212T130000
DTSTAMP:20260423T161518
CREATED:20220206T190822Z
LAST-MODIFIED:20220206T190822Z
UID:2781-1644660000-1644670800@feldajengka2.nadi.my
SUMMARY:Kelas asas Komputer (Resume)
DESCRIPTION:
URL:https://feldajengka2.nadi.my/event/kelas-asas-komputer-resume/
LOCATION:PEDI JENGKA 2\, PEDI JENGKA 2
CATEGORIES:DEFAULT
END:VEVENT
BEGIN:VEVENT
DTSTART;TZID=UTC:20220207T090000
DTEND;TZID=UTC:20220207T120000
DTSTAMP:20260423T161518
CREATED:20220206T190727Z
LAST-MODIFIED:20220206T190727Z
UID:2780-1644224400-1644235200@feldajengka2.nadi.my
SUMMARY:Kelas Usahawan
DESCRIPTION:
URL:https://feldajengka2.nadi.my/event/kelas-usahawan-3/
LOCATION:PEDI JENGKA 2\, PEDI JENGKA 2
CATEGORIES:DEFAULT
END:VEVENT
BEGIN:VEVENT
DTSTART;TZID=UTC:20220115T140000
DTEND;TZID=UTC:20220115T170000
DTSTAMP:20260423T161518
CREATED:20220103T223725Z
LAST-MODIFIED:20220103T223725Z
UID:2778-1642255200-1642266000@feldajengka2.nadi.my
SUMMARY:Latihan Keusahawanan ( E-Statement)
DESCRIPTION:
URL:https://feldajengka2.nadi.my/event/latihan-keusahawanan-e-statement/
LOCATION:PEDI FELDA JENGKA 2\, PEDI FELDA JENGKA 2
CATEGORIES:DEFAULT
END:VEVENT
BEGIN:VEVENT
DTSTART;TZID=UTC:20220109T140000
DTEND;TZID=UTC:20220109T170000
DTSTAMP:20260423T161518
CREATED:20220103T223628Z
LAST-MODIFIED:20220103T223628Z
UID:2777-1641736800-1641747600@feldajengka2.nadi.my
SUMMARY:Taklimat E-Waste
DESCRIPTION:
URL:https://feldajengka2.nadi.my/event/taklimat-e-waste-15/
LOCATION:PEDI FELDA JENGKA 2\, PEDI FELDA JENGKA 2
CATEGORIES:DEFAULT
END:VEVENT
BEGIN:VEVENT
DTSTART;TZID=UTC:20220108T100000
DTEND;TZID=UTC:20220108T120000
DTSTAMP:20260423T161518
CREATED:20220103T223538Z
LAST-MODIFIED:20220103T223538Z
UID:2776-1641636000-1641643200@feldajengka2.nadi.my
SUMMARY:Pertandingan Mewarna (KDB/DASHBOARD)
DESCRIPTION:
URL:https://feldajengka2.nadi.my/event/pertandingan-mewarna-kdb-dashboard/
LOCATION:PEDI FELDA JENGKA 2\, PEDI FELDA JENGKA 2
CATEGORIES:DEFAULT
END:VEVENT
BEGIN:VEVENT
DTSTART;TZID=UTC:20220107T090000
DTEND;TZID=UTC:20220107T235959
DTSTAMP:20260423T161518
CREATED:20220103T223432Z
LAST-MODIFIED:20220103T223432Z
UID:2775-1641546000-1641599999@feldajengka2.nadi.my
SUMMARY:Kelas Komputer (Online BKM)
DESCRIPTION:
URL:https://feldajengka2.nadi.my/event/kelas-komputer-online-bkm/
LOCATION:PEDI FELDA JENGKA 2\, PEDI FELDA JENGKA 2
CATEGORIES:DEFAULT
END:VEVENT
BEGIN:VEVENT
DTSTART;TZID=UTC:20220105T080000
DTEND;TZID=UTC:20220105T235959
DTSTAMP:20260423T161518
CREATED:20220103T223347Z
LAST-MODIFIED:20220103T223347Z
UID:2774-1641369600-1641427199@feldajengka2.nadi.my
SUMMARY:Aktiviti cuti sekolah (Batu Seremban)
DESCRIPTION:
URL:https://feldajengka2.nadi.my/event/aktiviti-cuti-sekolah-batu-seremban/
LOCATION:PEDI FELDA JENGKA 2\, PEDI FELDA JENGKA 2
CATEGORIES:DEFAULT
END:VEVENT
BEGIN:VEVENT
DTSTART;TZID=UTC:20211229T140000
DTEND;TZID=UTC:20211229T170000
DTSTAMP:20260423T161518
CREATED:20211206T181002Z
LAST-MODIFIED:20211206T181002Z
UID:2772-1640786400-1640797200@feldajengka2.nadi.my
SUMMARY:MY Health (Dashboard)
DESCRIPTION:
URL:https://feldajengka2.nadi.my/event/my-health-dashboard/
LOCATION:PI Felda Jengka 2\, PI Felda Jengka 2
CATEGORIES:DEFAULT
END:VEVENT
BEGIN:VEVENT
DTSTART;TZID=UTC:20211221T140000
DTEND;TZID=UTC:20211221T170000
DTSTAMP:20260423T161518
CREATED:20211206T180859Z
LAST-MODIFIED:20211206T180859Z
UID:2771-1640095200-1640106000@feldajengka2.nadi.my
SUMMARY:Asas Komputer (Kelas Usahawan)
DESCRIPTION:
URL:https://feldajengka2.nadi.my/event/asas-komputer-kelas-usahawan/
LOCATION:PI Felda Jengka 2\, PI Felda Jengka 2
CATEGORIES:DEFAULT
END:VEVENT
BEGIN:VEVENT
DTSTART;TZID=UTC:20211218T100000
DTEND;TZID=UTC:20211218T130000
DTSTAMP:20260423T161518
CREATED:20211206T180611Z
LAST-MODIFIED:20211206T180611Z
UID:2770-1639821600-1639832400@feldajengka2.nadi.my
SUMMARY:Kelas Microsoft Publisher
DESCRIPTION:
URL:https://feldajengka2.nadi.my/event/kelas-microsoft-publisher-2/
LOCATION:PI Felda Jengka 2\, PI Felda Jengka 2
CATEGORIES:DEFAULT
END:VEVENT
BEGIN:VEVENT
DTSTART;TZID=UTC:20211216T100000
DTEND;TZID=UTC:20211216T130000
DTSTAMP:20260423T161518
CREATED:20211206T180523Z
LAST-MODIFIED:20211206T180523Z
UID:2769-1639648800-1639659600@feldajengka2.nadi.my
SUMMARY:Klik Dengan Bijak
DESCRIPTION:
URL:https://feldajengka2.nadi.my/event/klik-dengan-bijak-368/
LOCATION:PI Felda Jengka 2\, PI Felda Jengka 2
CATEGORIES:DEFAULT
END:VEVENT
BEGIN:VEVENT
DTSTART;TZID=UTC:20211211T090000
DTEND;TZID=UTC:20211211T120000
DTSTAMP:20260423T161518
CREATED:20211206T180446Z
LAST-MODIFIED:20211206T180446Z
UID:2768-1639213200-1639224000@feldajengka2.nadi.my
SUMMARY:Kuiz Check You Label
DESCRIPTION:
URL:https://feldajengka2.nadi.my/event/kuiz-check-you-label/
LOCATION:PI Felda Jengka 2\, PI Felda Jengka 2
CATEGORIES:DEFAULT
END:VEVENT
BEGIN:VEVENT
DTSTART;TZID=UTC:20211208T080000
DTEND;TZID=UTC:20211208T235959
DTSTAMP:20260423T161518
CREATED:20211206T180349Z
LAST-MODIFIED:20211206T180349Z
UID:2767-1638950400-1639007999@feldajengka2.nadi.my
SUMMARY:Fun Learning (Puzzle Online)
DESCRIPTION:
URL:https://feldajengka2.nadi.my/event/fun-learning-puzzle-online/
LOCATION:PI Felda Jengka 2\, PI Felda Jengka 2
CATEGORIES:DEFAULT
END:VEVENT
BEGIN:VEVENT
DTSTART;TZID=UTC:20211127T100000
DTEND;TZID=UTC:20211127T235959
DTSTAMP:20260423T161518
CREATED:20211031T175054Z
LAST-MODIFIED:20211031T175054Z
UID:2766-1638007200-1638057599@feldajengka2.nadi.my
SUMMARY:Dashboard Komuniti
DESCRIPTION:
URL:https://feldajengka2.nadi.my/event/dashboard-komuniti-4/
LOCATION:PI Felda Jengka 2\, PI Felda Jengka 2
CATEGORIES:DEFAULT
END:VEVENT
BEGIN:VEVENT
DTSTART;TZID=UTC:20211122T090000
DTEND;TZID=UTC:20211122T235959
DTSTAMP:20260423T161518
CREATED:20211031T174944Z
LAST-MODIFIED:20211031T174944Z
UID:2765-1637571600-1637625599@feldajengka2.nadi.my
SUMMARY:MY Health (Makanan Sihat)
DESCRIPTION:
URL:https://feldajengka2.nadi.my/event/my-health-makanan-sihat/
LOCATION:PI Felda Jengka 2\, PI Felda Jengka 2
CATEGORIES:DEFAULT
END:VEVENT
BEGIN:VEVENT
DTSTART;TZID=UTC:20211118T090000
DTEND;TZID=UTC:20211118T130000
DTSTAMP:20260423T161518
CREATED:20211031T174828Z
LAST-MODIFIED:20211031T174828Z
UID:2764-1637226000-1637240400@feldajengka2.nadi.my
SUMMARY:Taklimat E-Waste
DESCRIPTION:
URL:https://feldajengka2.nadi.my/event/taklimat-e-waste-14/
LOCATION:PI Felda Jengka 2\, PI Felda Jengka 2
CATEGORIES:DEFAULT
END:VEVENT
BEGIN:VEVENT
DTSTART;TZID=UTC:20211113T100000
DTEND;TZID=UTC:20211113T130000
DTSTAMP:20260423T161518
CREATED:20211031T174721Z
LAST-MODIFIED:20211031T174721Z
UID:2763-1636797600-1636808400@feldajengka2.nadi.my
SUMMARY:Kelas Asas Komputer
DESCRIPTION:
URL:https://feldajengka2.nadi.my/event/kelas-asas-komputer-2/
LOCATION:PI Felda Jengka 2\, PI Felda Jengka 2
CATEGORIES:DEFAULT
END:VEVENT
BEGIN:VEVENT
DTSTART;TZID=UTC:20211108T140000
DTEND;TZID=UTC:20211108T170000
DTSTAMP:20260423T161518
CREATED:20211031T174551Z
LAST-MODIFIED:20211031T174551Z
UID:2762-1636380000-1636390800@feldajengka2.nadi.my
SUMMARY:Klik Dengan Bijak
DESCRIPTION:
URL:https://feldajengka2.nadi.my/event/klik-dengan-bijak-367/
LOCATION:PI Felda Jengka 2\, PI Felda Jengka 2
CATEGORIES:DEFAULT
END:VEVENT
BEGIN:VEVENT
DTSTART;TZID=UTC:20211103T090000
DTEND;TZID=UTC:20211103T120000
DTSTAMP:20260423T161518
CREATED:20211031T174422Z
LAST-MODIFIED:20211031T174422Z
UID:2761-1635930000-1635940800@feldajengka2.nadi.my
SUMMARY:KDB Tayangan Video
DESCRIPTION:
URL:https://feldajengka2.nadi.my/event/kdb-tayangan-video-2/
LOCATION:PI Felda Jengka 2\, PI Felda Jengka 2
CATEGORIES:DEFAULT
END:VEVENT
BEGIN:VEVENT
DTSTART;TZID=UTC:20211029T090000
DTEND;TZID=UTC:20211029T235959
DTSTAMP:20260423T161518
CREATED:20211004T175159Z
LAST-MODIFIED:20211004T175159Z
UID:2760-1635498000-1635551999@feldajengka2.nadi.my
SUMMARY:Kelas Keusahawanan(Online Banking)
DESCRIPTION:
URL:https://feldajengka2.nadi.my/event/kelas-keusahawananonline-banking/
LOCATION:PI Felda Jengka 2\, PI Felda Jengka 2
CATEGORIES:DEFAULT
END:VEVENT
BEGIN:VEVENT
DTSTART;TZID=UTC:20211020T100000
DTEND;TZID=UTC:20211020T130000
DTSTAMP:20260423T161518
CREATED:20211004T175113Z
LAST-MODIFIED:20211004T175113Z
UID:2759-1634724000-1634734800@feldajengka2.nadi.my
SUMMARY:Kuiz Check Your Label
DESCRIPTION:
URL:https://feldajengka2.nadi.my/event/kuiz-check-your-label/
LOCATION:PI Felda Jengka 2\, PI Felda Jengka 2
CATEGORIES:DEFAULT
END:VEVENT
BEGIN:VEVENT
DTSTART;TZID=UTC:20211014T140000
DTEND;TZID=UTC:20211014T170000
DTSTAMP:20260423T161518
CREATED:20211004T175026Z
LAST-MODIFIED:20211004T175026Z
UID:2758-1634220000-1634230800@feldajengka2.nadi.my
SUMMARY:Taklimat E-Waste
DESCRIPTION:
URL:https://feldajengka2.nadi.my/event/taklimat-e-waste-13/
CATEGORIES:DEFAULT
END:VEVENT
END:VCALENDAR