BEGIN:VCALENDAR
VERSION:2.0
PRODID:-//NADI Felda Jengka 2 - ECPv6.15.13.1//NONSGML v1.0//EN
CALSCALE:GREGORIAN
METHOD:PUBLISH
X-WR-CALNAME:NADI Felda Jengka 2
X-ORIGINAL-URL:https://feldajengka2.nadi.my
X-WR-CALDESC:Events for NADI Felda Jengka 2
REFRESH-INTERVAL;VALUE=DURATION:PT1H
X-Robots-Tag:noindex
X-PUBLISHED-TTL:PT1H
BEGIN:VTIMEZONE
TZID:UTC
BEGIN:STANDARD
TZOFFSETFROM:+0000
TZOFFSETTO:+0000
TZNAME:UTC
DTSTART:20210101T000000
END:STANDARD
END:VTIMEZONE
BEGIN:VEVENT
DTSTART;TZID=UTC:20221219T140000
DTEND;TZID=UTC:20221219T170000
DTSTAMP:20260421T013915
CREATED:20221212T001817Z
LAST-MODIFIED:20221212T001817Z
UID:2832-1671458400-1671469200@feldajengka2.nadi.my
SUMMARY:Kelas Microsoft Word
DESCRIPTION:
URL:https://feldajengka2.nadi.my/event/kelas-microsoft-word-2/
LOCATION:PEDI FELDA JENGKA 2\, PEDI FELDA JENGKA 2
CATEGORIES:DEFAULT
END:VEVENT
BEGIN:VEVENT
DTSTART;TZID=UTC:20221219T100000
DTEND;TZID=UTC:20230101T170000
DTSTAMP:20260421T013915
CREATED:20221212T002057Z
LAST-MODIFIED:20221212T002057Z
UID:2835-1671444000-1672592400@feldajengka2.nadi.my
SUMMARY:Pertandingan Permainan Tradisional
DESCRIPTION:
URL:https://feldajengka2.nadi.my/event/pertandingan-permainan-tradisional-2/
LOCATION:PEDI FELDA JENGKA 2\, PEDI FELDA JENGKA 2
CATEGORIES:DEFAULT
END:VEVENT
BEGIN:VEVENT
DTSTART;TZID=UTC:20221218T100000
DTEND;TZID=UTC:20221231T170000
DTSTAMP:20260421T013915
CREATED:20221212T002057Z
LAST-MODIFIED:20221212T002057Z
UID:2834-1671357600-1672506000@feldajengka2.nadi.my
SUMMARY:Pertandingan Permainan Tradisional
DESCRIPTION:
URL:https://feldajengka2.nadi.my/event/pertandingan-permainan-tradisional/
LOCATION:PEDI FELDA JENGKA 2\, PEDI FELDA JENGKA 2
CATEGORIES:DEFAULT
END:VEVENT
BEGIN:VEVENT
DTSTART;TZID=UTC:20221215T100000
DTEND;TZID=UTC:20221215T235959
DTSTAMP:20260421T013915
CREATED:20221212T001707Z
LAST-MODIFIED:20221212T001707Z
UID:2831-1671098400-1671148799@feldajengka2.nadi.my
SUMMARY:Taklimat E-Waste dan Kuiz
DESCRIPTION:
URL:https://feldajengka2.nadi.my/event/taklimat-e-waste-dan-kuiz-6/
LOCATION:PEDI FELDA JENGKA 2\, PEDI FELDA JENGKA 2
CATEGORIES:DEFAULT
END:VEVENT
BEGIN:VEVENT
DTSTART;TZID=UTC:20221130T140000
DTEND;TZID=UTC:20221130T170000
DTSTAMP:20260421T013915
CREATED:20221101T005856Z
LAST-MODIFIED:20221101T005856Z
UID:2830-1669816800-1669827600@feldajengka2.nadi.my
SUMMARY:Kelas Usahawan
DESCRIPTION:
URL:https://feldajengka2.nadi.my/event/kelas-usahawan-6/
LOCATION:PEDI FELDA JENGKA 2\, PEDI FELDA JENGKA 2
CATEGORIES:DEFAULT
END:VEVENT
BEGIN:VEVENT
DTSTART;TZID=UTC:20221125T090000
DTEND;TZID=UTC:20221125T120000
DTSTAMP:20260421T013915
CREATED:20221101T005747Z
LAST-MODIFIED:20221101T005747Z
UID:2829-1669366800-1669377600@feldajengka2.nadi.my
SUMMARY:Fun Learning Puzzle
DESCRIPTION:
URL:https://feldajengka2.nadi.my/event/fun-learning-puzzle/
LOCATION:PEDI FELDA JENGKA 2\, PEDI FELDA JENGKA 2
CATEGORIES:DEFAULT
END:VEVENT
BEGIN:VEVENT
DTSTART;TZID=UTC:20221119T100000
DTEND;TZID=UTC:20221119T235959
DTSTAMP:20260421T013915
CREATED:20221101T005704Z
LAST-MODIFIED:20221101T005704Z
UID:2828-1668852000-1668902399@feldajengka2.nadi.my
SUMMARY:Dashboard MY Place
DESCRIPTION:
URL:https://feldajengka2.nadi.my/event/dashboard-my-place/
LOCATION:PEDI FELDA JENGKA 2\, PEDI FELDA JENGKA 2
CATEGORIES:DEFAULT
END:VEVENT
BEGIN:VEVENT
DTSTART;TZID=UTC:20221116T090000
DTEND;TZID=UTC:20221116T130000
DTSTAMP:20260421T013915
CREATED:20221101T005554Z
LAST-MODIFIED:20221101T005554Z
UID:2827-1668589200-1668603600@feldajengka2.nadi.my
SUMMARY:Kelas Asas Android
DESCRIPTION:
URL:https://feldajengka2.nadi.my/event/kelas-asas-android-2/
LOCATION:PEDI FELDA JENGKA 2\, PEDI FELDA JENGKA 2
CATEGORIES:DEFAULT
END:VEVENT
BEGIN:VEVENT
DTSTART;TZID=UTC:20221111T080000
DTEND;TZID=UTC:20221111T235959
DTSTAMP:20260421T013915
CREATED:20221101T005508Z
LAST-MODIFIED:20221101T005508Z
UID:2826-1668153600-1668211199@feldajengka2.nadi.my
SUMMARY:Klik Dengan Bijak
DESCRIPTION:
URL:https://feldajengka2.nadi.my/event/klik-dengan-bijak-371/
LOCATION:PEDI FELDA JENGKA 2\, PEDI FELDA JENGKA 2
CATEGORIES:DEFAULT
END:VEVENT
BEGIN:VEVENT
DTSTART;TZID=UTC:20221106T140000
DTEND;TZID=UTC:20221106T170000
DTSTAMP:20260421T013915
CREATED:20221101T005424Z
LAST-MODIFIED:20221101T005424Z
UID:2825-1667743200-1667754000@feldajengka2.nadi.my
SUMMARY:Taklimat dan kuiz E-Waste
DESCRIPTION:
URL:https://feldajengka2.nadi.my/event/taklimat-dan-kuiz-e-waste/
LOCATION:PEDI FELDA JENGKA 2\, PEDI FELDA JENGKA 2
CATEGORIES:DEFAULT
END:VEVENT
BEGIN:VEVENT
DTSTART;TZID=UTC:20221104T090000
DTEND;TZID=UTC:20221104T120000
DTSTAMP:20260421T013915
CREATED:20221101T005235Z
LAST-MODIFIED:20221101T005235Z
UID:2824-1667552400-1667563200@feldajengka2.nadi.my
SUMMARY:Kelas Skrip ke Skrin
DESCRIPTION:
URL:https://feldajengka2.nadi.my/event/kelas-skrip-ke-skrin/
LOCATION:PEDI FELDA JENGKA 2\, PEDI FELDA JENGKA 2
CATEGORIES:DEFAULT
END:VEVENT
BEGIN:VEVENT
DTSTART;TZID=UTC:20221028T140000
DTEND;TZID=UTC:20221028T170000
DTSTAMP:20260421T013915
CREATED:20221004T195823Z
LAST-MODIFIED:20221004T195823Z
UID:2823-1666965600-1666976400@feldajengka2.nadi.my
SUMMARY:Kelas Usahawan (Membuat Profil Syarikat)
DESCRIPTION:
URL:https://feldajengka2.nadi.my/event/kelas-usahawan-membuat-profil-syarikat/
LOCATION:PEDI FELDA JENGKA 2\, PEDI FELDA JENGKA 2
CATEGORIES:DEFAULT
END:VEVENT
BEGIN:VEVENT
DTSTART;TZID=UTC:20221022T100000
DTEND;TZID=UTC:20221022T130000
DTSTAMP:20260421T013915
CREATED:20221004T195722Z
LAST-MODIFIED:20221004T195722Z
UID:2822-1666432800-1666443600@feldajengka2.nadi.my
SUMMARY:Kelas Usahawan (Skrip ke Screen)
DESCRIPTION:
URL:https://feldajengka2.nadi.my/event/kelas-usahawan-skrip-ke-screen/
LOCATION:PEDI FELDA JENGKA 2\, PEDI FELDA JENGKA 2
CATEGORIES:DEFAULT
END:VEVENT
BEGIN:VEVENT
DTSTART;TZID=UTC:20221016T140000
DTEND;TZID=UTC:20221016T170000
DTSTAMP:20260421T013915
CREATED:20221004T195623Z
LAST-MODIFIED:20221004T195623Z
UID:2821-1665928800-1665939600@feldajengka2.nadi.my
SUMMARY:Kuiz Check Your Label
DESCRIPTION:
URL:https://feldajengka2.nadi.my/event/kuiz-check-your-label-2/
LOCATION:PEDI FELDA JENGKA 2\, PEDI FELDA JENGKA 2
CATEGORIES:DEFAULT
END:VEVENT
BEGIN:VEVENT
DTSTART;TZID=UTC:20221015T090000
DTEND;TZID=UTC:20221015T235959
DTSTAMP:20260421T013915
CREATED:20221004T195453Z
LAST-MODIFIED:20221004T195453Z
UID:2820-1665824400-1665878399@feldajengka2.nadi.my
SUMMARY:Dashboard Day (MY Komuniti)
DESCRIPTION:
URL:https://feldajengka2.nadi.my/event/dashboard-day-my-komuniti-2/
LOCATION:PEDI FELDA JENGKA 2\, PEDI FELDA JENGKA 2
CATEGORIES:DEFAULT
END:VEVENT
BEGIN:VEVENT
DTSTART;TZID=UTC:20221012T090000
DTEND;TZID=UTC:20221012T120000
DTSTAMP:20260421T013915
CREATED:20221004T195318Z
LAST-MODIFIED:20221004T195318Z
UID:2819-1665565200-1665576000@feldajengka2.nadi.my
SUMMARY:Kelas Microsoft
DESCRIPTION:
URL:https://feldajengka2.nadi.my/event/kelas-microsoft-7/
LOCATION:PEDI FELDA JENGKA 2\, PEDI FELDA JENGKA 2
CATEGORIES:DEFAULT
END:VEVENT
BEGIN:VEVENT
DTSTART;TZID=UTC:20221009T100000
DTEND;TZID=UTC:20221009T130000
DTSTAMP:20260421T013915
CREATED:20221004T195222Z
LAST-MODIFIED:20221004T195222Z
UID:2818-1665309600-1665320400@feldajengka2.nadi.my
SUMMARY:Taklimat E-Waste dan KDB
DESCRIPTION:
URL:https://feldajengka2.nadi.my/event/taklimat-e-waste-dan-kdb/
LOCATION:PEDI FELDA JENGKA 2\, PEDI FELDA JENGKA 2
CATEGORIES:DEFAULT
END:VEVENT
BEGIN:VEVENT
DTSTART;TZID=UTC:20220925T140000
DTEND;TZID=UTC:20220925T170000
DTSTAMP:20260421T013915
CREATED:20220912T175034Z
LAST-MODIFIED:20220912T175034Z
UID:2817-1664114400-1664125200@feldajengka2.nadi.my
SUMMARY:Taklimat E-waste
DESCRIPTION:
URL:https://feldajengka2.nadi.my/event/taklimat-e-waste-19/
LOCATION:PEDI FELDA JENGKA 2\, PEDI FELDA JENGKA 2
CATEGORIES:DEFAULT
END:VEVENT
BEGIN:VEVENT
DTSTART;TZID=UTC:20220922T100000
DTEND;TZID=UTC:20220922T235959
DTSTAMP:20260421T013915
CREATED:20220912T174921Z
LAST-MODIFIED:20220912T174921Z
UID:2816-1663840800-1663891199@feldajengka2.nadi.my
SUMMARY:Kelas Usahawan
DESCRIPTION:
URL:https://feldajengka2.nadi.my/event/kelas-usahawan-5/
LOCATION:PEDI FELDA JENGKA 2\, PEDI FELDA JENGKA 2
CATEGORIES:DEFAULT
END:VEVENT
BEGIN:VEVENT
DTSTART;TZID=UTC:20220915T100000
DTEND;TZID=UTC:20220915T170000
DTSTAMP:20260421T013915
CREATED:20220903T011803Z
LAST-MODIFIED:20220903T011803Z
UID:2815-1663236000-1663261200@feldajengka2.nadi.my
SUMMARY:Dashboard Day (Hari Malaysia)
DESCRIPTION:
URL:https://feldajengka2.nadi.my/event/dashboard-day-hari-malaysia/
LOCATION:PEDI FELDA JENGKA 2\, PEDI FELDA JENGKA 2
CATEGORIES:DEFAULT
END:VEVENT
BEGIN:VEVENT
DTSTART;TZID=UTC:20220914T080000
DTEND;TZID=UTC:20220916T235959
DTSTAMP:20260421T013915
CREATED:20220821T234802Z
LAST-MODIFIED:20220821T234802Z
UID:2812-1663142400-1663372799@feldajengka2.nadi.my
SUMMARY:Sambutan Hari Kemerdekaan)
DESCRIPTION:Pertandingan rumah tercantik\, pakaian kebangsaan \,hiasan motor dan basikal
URL:https://feldajengka2.nadi.my/event/sambutan-hari-kemerdekaan/
LOCATION:Seluruh Kawasan Felda Jengka 2\, Seluruh Kawasan Felda Jengka 2
CATEGORIES:DEFAULT
END:VEVENT
BEGIN:VEVENT
DTSTART;TZID=UTC:20220909T100000
DTEND;TZID=UTC:20220909T170000
DTSTAMP:20260421T013915
CREATED:20220903T011710Z
LAST-MODIFIED:20220903T011710Z
UID:2814-1662717600-1662742800@feldajengka2.nadi.my
SUMMARY:Aplikasi KAHOOT (Fun Learning\, Cuti Sekolah)
DESCRIPTION:
URL:https://feldajengka2.nadi.my/event/aplikasi-kahoot-fun-learning-cuti-sekolah/
LOCATION:PEDI FELDA JENGKA 2\, PEDI FELDA JENGKA 2
CATEGORIES:DEFAULT
END:VEVENT
BEGIN:VEVENT
DTSTART;TZID=UTC:20220907T100000
DTEND;TZID=UTC:20220907T235959
DTSTAMP:20260421T013915
CREATED:20220903T011556Z
LAST-MODIFIED:20220903T011556Z
UID:2813-1662544800-1662595199@feldajengka2.nadi.my
SUMMARY:Sukaneka(Aktiviti cuti sekolah)
DESCRIPTION:
URL:https://feldajengka2.nadi.my/event/sukanekaaktiviti-cuti-sekolah/
LOCATION:PEDI FELDA JENGKA 2\, PEDI FELDA JENGKA 2
CATEGORIES:DEFAULT
END:VEVENT
BEGIN:VEVENT
DTSTART;TZID=UTC:20220824T080000
DTEND;TZID=UTC:20220824T235959
DTSTAMP:20260421T013915
CREATED:20220821T234602Z
LAST-MODIFIED:20220821T234602Z
UID:2810-1661328000-1661385599@feldajengka2.nadi.my
SUMMARY:Dashboard Day (Sambutan Muharram)
DESCRIPTION:Pembuatan bubur asyura di masjid
URL:https://feldajengka2.nadi.my/event/dashboard-day-sambutan-muharram/
LOCATION:Masjid Jamek Jengka 2\, Masjid Jamek Jengka 2
CATEGORIES:DEFAULT
END:VEVENT
BEGIN:VEVENT
DTSTART;TZID=UTC:20220730T100000
DTEND;TZID=UTC:20220730T235959
DTSTAMP:20260421T013915
CREATED:20220711T181334Z
LAST-MODIFIED:20220711T181334Z
UID:2808-1659175200-1659225599@feldajengka2.nadi.my
SUMMARY:Sambutan Awal Muharram
DESCRIPTION:
URL:https://feldajengka2.nadi.my/event/sambutan-awal-muharram/
LOCATION:PEDI FELDA JENGKA 2\, PEDI FELDA JENGKA 2
CATEGORIES:DEFAULT
END:VEVENT
BEGIN:VEVENT
DTSTART;TZID=UTC:20220723T090000
DTEND;TZID=UTC:20220723T120000
DTSTAMP:20260421T013915
CREATED:20220711T181245Z
LAST-MODIFIED:20220711T181245Z
UID:2807-1658566800-1658577600@feldajengka2.nadi.my
SUMMARY:Dashboard (My Poster)
DESCRIPTION:
URL:https://feldajengka2.nadi.my/event/dashboard-my-poster-2/
LOCATION:PEDI FELDA JENGKA 2\, PEDI FELDA JENGKA 2
CATEGORIES:DEFAULT
END:VEVENT
BEGIN:VEVENT
DTSTART;TZID=UTC:20220716T140000
DTEND;TZID=UTC:20220716T170000
DTSTAMP:20260421T013915
CREATED:20220711T181154Z
LAST-MODIFIED:20220711T181154Z
UID:2806-1657980000-1657990800@feldajengka2.nadi.my
SUMMARY:Kelas Usahawan
DESCRIPTION:
URL:https://feldajengka2.nadi.my/event/kelas-usahawan-4/
LOCATION:PEDI FELDA JENGKA 2\, PEDI FELDA JENGKA 2
CATEGORIES:DEFAULT
END:VEVENT
BEGIN:VEVENT
DTSTART;TZID=UTC:20220712T080000
DTEND;TZID=UTC:20220715T235959
DTSTAMP:20260421T013915
CREATED:20220711T180822Z
LAST-MODIFIED:20220711T180822Z
UID:2805-1657612800-1657929599@feldajengka2.nadi.my
SUMMARY:Sambutan Hari raya Aidiladha
DESCRIPTION:
URL:https://feldajengka2.nadi.my/event/sambutan-hari-raya-aidiladha-3/
LOCATION:Dewan/Taman Jengka 2\, Dewan/Taman Jengka 2
CATEGORIES:DEFAULT
END:VEVENT
BEGIN:VEVENT
DTSTART;TZID=UTC:20220711T080000
DTEND;TZID=UTC:20220714T235959
DTSTAMP:20260421T013915
CREATED:20220711T180822Z
LAST-MODIFIED:20220711T180822Z
UID:2804-1657526400-1657843199@feldajengka2.nadi.my
SUMMARY:Sambutan Hari raya Aidiladha
DESCRIPTION:
URL:https://feldajengka2.nadi.my/event/sambutan-hari-raya-aidiladha-2/
LOCATION:Dewan/Taman Jengka 2\, Dewan/Taman Jengka 2
CATEGORIES:DEFAULT
END:VEVENT
BEGIN:VEVENT
DTSTART;TZID=UTC:20220710T080000
DTEND;TZID=UTC:20220713T235959
DTSTAMP:20260421T013915
CREATED:20220711T180822Z
LAST-MODIFIED:20220711T180822Z
UID:2803-1657440000-1657756799@feldajengka2.nadi.my
SUMMARY:Sambutan Hari raya Aidiladha
DESCRIPTION:
URL:https://feldajengka2.nadi.my/event/sambutan-hari-raya-aidiladha/
LOCATION:Dewan/Taman Jengka 2\, Dewan/Taman Jengka 2
CATEGORIES:DEFAULT
END:VEVENT
END:VCALENDAR